BEGIN:VCALENDAR
VERSION:2.0
PRODID:-//Providence Health Care - ECPv6.15.20//NONSGML v1.0//EN
CALSCALE:GREGORIAN
METHOD:PUBLISH
X-ORIGINAL-URL:https://medicine.providencehealthcare.org
X-WR-CALDESC:Events for Providence Health Care
REFRESH-INTERVAL;VALUE=DURATION:PT1H
X-Robots-Tag:noindex
X-PUBLISHED-TTL:PT1H
BEGIN:VTIMEZONE
TZID:America/Vancouver
BEGIN:DAYLIGHT
TZOFFSETFROM:-0800
TZOFFSETTO:-0700
TZNAME:PDT
DTSTART:20230312T100000
END:DAYLIGHT
BEGIN:STANDARD
TZOFFSETFROM:-0700
TZOFFSETTO:-0800
TZNAME:PST
DTSTART:20231105T090000
END:STANDARD
BEGIN:DAYLIGHT
TZOFFSETFROM:-0800
TZOFFSETTO:-0700
TZNAME:PDT
DTSTART:20240310T100000
END:DAYLIGHT
BEGIN:STANDARD
TZOFFSETFROM:-0700
TZOFFSETTO:-0800
TZNAME:PST
DTSTART:20241103T090000
END:STANDARD
BEGIN:DAYLIGHT
TZOFFSETFROM:-0800
TZOFFSETTO:-0700
TZNAME:PDT
DTSTART:20250309T100000
END:DAYLIGHT
BEGIN:STANDARD
TZOFFSETFROM:-0700
TZOFFSETTO:-0800
TZNAME:PST
DTSTART:20251102T090000
END:STANDARD
END:VTIMEZONE
BEGIN:VEVENT
DTSTART;TZID=America/Vancouver:20240708T120000
DTEND;TZID=America/Vancouver:20240708T130000
DTSTAMP:20260422T080123
CREATED:20240628T200449Z
LAST-MODIFIED:20240628T200449Z
UID:8767-1720440000-1720443600@medicine.providencehealthcare.org
SUMMARY:Gastroenterology Noon Rounds
DESCRIPTION:July 8\, 2024 \nGastroenterology Noon Rounds \nPresenter: TBA\nTopic: TBA
URL:https://medicine.providencehealthcare.org/event/gastroenterology-noon-rounds-9/
CATEGORIES:Noon Rounds
END:VEVENT
END:VCALENDAR